BEGIN:VCALENDAR
VERSION:2.0
PRODID:-//Geneve Casita Tango - ECPv5.14.1//NONSGML v1.0//EN
CALSCALE:GREGORIAN
METHOD:PUBLISH
X-WR-CALNAME:Geneve Casita Tango
X-ORIGINAL-URL:https://casitatango.ch
X-WR-CALDESC:Events for Geneve Casita Tango
REFRESH-INTERVAL;VALUE=DURATION:PT1H
X-Robots-Tag:noindex
X-PUBLISHED-TTL:PT1H
BEGIN:VTIMEZONE
TZID:Europe/Zurich
BEGIN:DAYLIGHT
TZOFFSETFROM:+0100
TZOFFSETTO:+0200
TZNAME:CEST
DTSTART:20260329T010000
END:DAYLIGHT
BEGIN:STANDARD
TZOFFSETFROM:+0200
TZOFFSETTO:+0100
TZNAME:CET
DTSTART:20261025T010000
END:STANDARD
END:VTIMEZONE
BEGIN:VEVENT
DTSTART;TZID=Europe/Zurich:20260508T210000
DTEND;TZID=Europe/Zurich:20260509T000000
DTSTAMP:20260423T195405
CREATED:20260308T070718Z
LAST-MODIFIED:20260308T070718Z
UID:30731-1778274000-1778284800@casitatango.ch
SUMMARY:MILONGA EL BOLICHE
DESCRIPTION:
URL:https://casitatango.ch/event/milonga-el-boliche-3/
LOCATION:Association pour le Patrimoine industriel rue du Vuache 25 1201 Genève\, rue du Vuache 25\, Genève\, genève\, 1201\, Suisse
END:VEVENT
BEGIN:VEVENT
DTSTART;TZID=Europe/Zurich:20260522T210000
DTEND;TZID=Europe/Zurich:20260523T000000
DTSTAMP:20260423T195405
CREATED:20260308T070827Z
LAST-MODIFIED:20260308T071101Z
UID:30733-1779483600-1779494400@casitatango.ch
SUMMARY:MILONGA EL BOLICHE
DESCRIPTION:
URL:https://casitatango.ch/event/milonga-el-boliche-4/
LOCATION:Association pour le Patrimoine industriel rue du Vuache 25 1201 Genève\, rue du Vuache 25\, Genève\, genève\, 1201\, Suisse
END:VEVENT
BEGIN:VEVENT
DTSTART;TZID=Europe/Zurich:20260610T210000
DTEND;TZID=Europe/Zurich:20260611T210000
DTSTAMP:20260423T195405
CREATED:20260308T070039Z
LAST-MODIFIED:20260308T070122Z
UID:30729-1781125200-1781211600@casitatango.ch
SUMMARY:MILONGA EL BOLICHE
DESCRIPTION:Milonga 15.- \n12.- AVS/étudiants et autres. \n5.- pour les élèves du coursPossibilité de troc en cas de difficultés financières. Infos/réservations/ inscriptions casitatango.chgenevecasitatango@gmail.comLieu:API25 rue du Vuache1201 Genève . Bar et petite restauration \n 
URL:https://casitatango.ch/event/milonga-el-boliche-2/
LOCATION:Association pour le Patrimoine industriel rue du Vuache 25 1201 Genève\, rue du Vuache 25\, Genève\, genève\, 1201\, Suisse
END:VEVENT
BEGIN:VEVENT
DTSTART;TZID=Europe/Zurich:20260617T210000
DTEND;TZID=Europe/Zurich:20260618T000000
DTSTAMP:20260423T195405
CREATED:20251019T165655Z
LAST-MODIFIED:20260308T065239Z
UID:30350-1781730000-1781740800@casitatango.ch
SUMMARY:Milonga El Boliche précédé d'un cours.
DESCRIPTION:Milonga 15.- 12.- AVS/étudiants et autres. 5.- pour les élèves du coursPossibilité de troc en cas de difficultés financières. Infos/réservations/ inscriptions casitatango.chgenevecasitatango@gmail.comLieu:API25 rue du Vuache1201 Genève\n. Bar et petite restauration
URL:https://casitatango.ch/event/milonga-el-boliche-precede-dun-cours-2/
LOCATION:Association pour le Patrimoine industriel rue du Vuache 25 1201 Genève\, rue du Vuache 25\, Genève\, genève\, 1201\, Suisse
END:VEVENT
BEGIN:VEVENT
DTSTART;TZID=Europe/Zurich:20260626T210000
DTEND;TZID=Europe/Zurich:20260627T010000
DTSTAMP:20260423T195405
CREATED:20251007T151256Z
LAST-MODIFIED:20260308T065523Z
UID:30344-1782507600-1782522000@casitatango.ch
SUMMARY:Milonga El Boliche
DESCRIPTION:  \n  \n  \n  \n  \n  \nMilonga 21h- MINUIT\nEntrée:\n15.-\n12.- AVS\, chômage\, AI\, étudiants\n5.- pour ceux qui prenne le cours\n10.- le cours d’initiation au tango\nOffres: venez à 2\, payer 20.-\n25 rue du Vuache\n1291 Genève\nInfos et réservations:\ncasitatango.ch\ngenevecasitatango.ch \n  \n 
URL:https://casitatango.ch/event/milonga-el-boliche-precede-dun-cours/
LOCATION:Association pour le Patrimoine industriel rue du Vuache 25 1201 Genève\, rue du Vuache 25\, Genève\, genève\, 1201\, Suisse
CATEGORIES:tango
END:VEVENT
END:VCALENDAR